0.1
0
0
-0.1
599232.827442602
4708349.7700062
