0.1
0
0
-0.1
598393.578280843
4707180.95716477
