0.1
0
0
-0.1
598401.78296542
4706602.64969187
