0.1
0
0
-0.1
604375.502196116
4707846.77192446
