0.1
0
0
-0.1
606086.985101454
4707872.85660254
