0.1
0
0
-0.1
606104.670339565
4706716.23190986
