0.1
0
0
-0.1
598418.184223048
4705446.03914323
