0.1
0
0
-0.1
604401.607928757
4706111.84168248
