0.1
0
0
-0.1
606969.462686631
4706150.9609647
