0.1
0
0
-0.1
605266.325645529
4705546.57295827
