0.1
0
0
-0.1
608681.365105638
4706177.67164773
