0.1
0
0
-0.1
609555.563832485
4705034.50923483
