0.1
0
0
-0.1
607852.352899666
4704429.283698
