0.1
0
0
-0.1
598459.165052127
4702554.54168589
