0.1
0
0
-0.1
598467.358020535
4701976.24718788
