0.1
0
0
-0.1
599323.797200627
4701988.44289912
