0.1
0
0
-0.1
601036.678281941
4702013.04483953
