0.1
0
0
-0.1
604436.38830338
4703798.61424236
