0.1
0
0
-0.1
609573.810296464
4703877.89270523
