0.1
0
0
-0.1
610430.048906911
4703891.34921671
