0.1
0
0
-0.1
610439.237983572
4703313.04935483
