0.1
0
0
-0.1
607879.293281129
4702694.38164059
