0.1
0
0
-0.1
608744.721357094
4702129.53866585
