0.1
0
0
-0.1
609601.168248965
4702142.99414464
