0.1
0
0
-0.1
611295.545688975
4703326.7165233
