0.1
0
0
-0.1
601901.59593771
4701447.36148974
