0.1
0
0
-0.1
603614.624513523
4701472.59223953
