0.1
0
0
-0.1
604479.838527821
4700907.11644055
