0.1
0
0
-0.1
605345.197423761
4700341.85166893
