0.1
0
0
-0.1
607924.167652304
4699802.87287051
