0.1
0
0
-0.1
609637.639570422
4699829.77776744
