0.1
0
0
-0.1
612189.176118542
4701027.37988033
