0.1
0
0
-0.1
612198.508757974
4700449.07194767
