0.1
0
0
-0.1
599373.372337408
4698518.64776664
