0.1
0
0
-0.1
600238.570373094
4697952.54726989
