0.1
0
0
-0.1
601103.915844151
4697386.65777745
