0.1
0
0
-0.1
605371.482530579
4698606.95994684
