0.1
0
0
-0.1
607085.232219777
4698633.03291525
