0.1
0
0
-0.1
607094.131627562
4698054.73600074
