0.1
0
0
-0.1
605389.000145395
4697450.36864432
