0.1
0
0
-0.1
606246.016091745
4697463.40386275
