0.1
0
0
-0.1
608789.946814669
4699238.02808799
