0.1
0
0
-0.1
610503.561181294
4699264.93197735
