0.1
0
0
-0.1
607942.109314422
4698646.27804985
