0.1
0
0
-0.1
607951.079397043
4698067.98013625
