0.1
0
0
-0.1
612235.822702443
4698135.87854651
