0.1
0
0
-0.1
601969.404750322
4696820.98128907
