0.1
0
0
-0.1
603683.581959304
4696846.21582286
