0.1
0
0
-0.1
602835.034194709
4696255.30768818
