0.1
0
0
-0.1
604540.671081481
4696859.03990632
